BEGIN:VCALENDAR
VERSION:2.0
PRODID:-//ChamberMaster//Event Calendar 2.0//EN
METHOD:PUBLISH
X-PUBLISHED-TTL:P3D
REFRESH-INTERVAL:P3D
CALSCALE:GREGORIAN
BEGIN:VEVENT
DTSTART:20130718T190000Z
DTEND:20130718T200000Z
X-MICROSOFT-CDO-ALLDAYEVENT:FALSE
SUMMARY:2013 July LUNCH BYTES: Technology for Compliance
DESCRIPTION:July Lunch Bytes:  Technology for Compliance\n	\n		A survey of legal nightmares and how to keep your Bytes in Compliance\n	\n		 \n	\n		  Why you need a computer use policy\n	\n		  E-Discovery and email retention \n	\n		  Website privacy\, usability\, and data security requirements\n	\n		  Credit card and Personal financial data\n	\n		  HIPAA - Security for medical records\n	\n		  Requirements for public companies\n	\n		  Document retention requirements for electronic documents.\n	\n		 \n	\n		Get an overview of what you need to pay attention to with your electronic records\, and get resources help you stay in compliance.
X-ALT-DESC;FMTTYPE=text/html:<div style="color: gray">\n	<p style="margin: 0in 0in 0pt">\n		<span style="color: #000000"><span style="font-family: 'Calibri'\, 'sans-serif'\; font-size: 11pt">July Lunch Bytes:&nbsp\; Technology for Compliance</span></span><span style="font-family: 'Calibri'\, 'sans-serif'\; font-size: 11pt"><o:p></o:p></span></p>\n	<p style="margin: 0in 0in 0pt">\n		<span style="color: #000000"><span style="font-family: 'Calibri'\, 'sans-serif'\; font-size: 11pt">A survey of legal nightmares and how to keep your Bytes in Compliance</span></span><span style="font-family: 'Calibri'\, 'sans-serif'\; font-size: 11pt"><o:p></o:p></span></p>\n	<p style="margin: 0in 0in 0pt">\n		<span style="color: #000000"><span style="font-family: 'Calibri'\, 'sans-serif'\; font-size: 11pt">&nbsp\;</span></span><span style="font-family: 'Calibri'\, 'sans-serif'\; font-size: 11pt"><o:p></o:p></span></p>\n	<p style="margin: 0in 0in 0pt">\n		<span style="color: #000000"><span style="font-family: 'Calibri'\, 'sans-serif'\; font-size: 11pt">&nbsp\; Why you need a computer use policy</span></span><span style="font-family: 'Calibri'\, 'sans-serif'\; font-size: 11pt"><o:p></o:p></span></p>\n	<p style="margin: 0in 0in 0pt">\n		<span style="color: #000000"><span style="font-family: 'Calibri'\, 'sans-serif'\; font-size: 11pt">&nbsp\; E-Discovery and email retention </span></span><span style="font-family: 'Calibri'\, 'sans-serif'\; font-size: 11pt"><o:p></o:p></span></p>\n	<p style="margin: 0in 0in 0pt">\n		<span style="color: #000000"><span style="font-family: 'Calibri'\, 'sans-serif'\; font-size: 11pt">&nbsp\;&nbsp\;Website privacy\, usability\, and data security requirements</span></span><span style="font-family: 'Calibri'\, 'sans-serif'\; font-size: 11pt"><o:p></o:p></span></p>\n	<p style="margin: 0in 0in 0pt">\n		<span style="color: #000000"><span style="font-family: 'Calibri'\, 'sans-serif'\; font-size: 11pt">&nbsp\; Credit card and Personal financial data</span></span><span style="font-family: 'Calibri'\, 'sans-serif'\; font-size: 11pt"><o:p></o:p></span></p>\n	<p style="margin: 0in 0in 0pt">\n		<span style="color: #000000"><span style="font-family: 'Calibri'\, 'sans-serif'\; font-size: 11pt">&nbsp\; HIPAA - Security for medical records</span></span><span style="font-family: 'Calibri'\, 'sans-serif'\; font-size: 11pt"><o:p></o:p></span></p>\n	<p style="margin: 0in 0in 0pt">\n		<span style="color: #000000"><span style="font-family: 'Calibri'\, 'sans-serif'\; font-size: 11pt">&nbsp\; Requirements for public companies</span></span><span style="font-family: 'Calibri'\, 'sans-serif'\; font-size: 11pt"><o:p></o:p></span></p>\n	<p style="margin: 0in 0in 0pt">\n		<span style="color: #000000"><span style="font-family: 'Calibri'\, 'sans-serif'\; font-size: 11pt">&nbsp\; Document retention requirements for electronic documents.</span></span><span style="font-family: 'Calibri'\, 'sans-serif'\; font-size: 11pt"><o:p></o:p></span></p>\n	<p style="margin: 0in 0in 0pt">\n		<span style="color: #000000"><span style="font-family: 'Calibri'\, 'sans-serif'\; font-size: 11pt">&nbsp\;</span></span><span style="font-family: 'Calibri'\, 'sans-serif'\; font-size: 11pt"><o:p></o:p></span></p>\n	<p style="margin: 0in 0in 0pt">\n		<span style="color: #000000"><span style="font-family: 'Calibri'\, 'sans-serif'\; font-size: 11pt">Get an overview of what you need to pay attention to with your electronic records\, and get resources help you stay in compliance.&nbsp\; </span></span><span style="font-family: 'Calibri'\, 'sans-serif'\; font-size: 11pt"><o:p></o:p></span></p>\n</div>\n
LOCATION:Fresno Pacific University - Visalia Campus Computer Lab Room 102 245 N Plaza Drive Visalia 93291
UID:e.1273.952
SEQUENCE:3
DTSTAMP:20260420T083803Z
URL:https://business.visaliachamber.org/events/details/2013-july-lunch-bytes-technology-for-compliance-07-18-2013-952
END:VEVENT

END:VCALENDAR
