BEGIN:VCALENDAR
VERSION:2.0
PRODID:-//ChamberMaster//Event Calendar 2.0//EN
METHOD:PUBLISH
X-PUBLISHED-TTL:P3D
REFRESH-INTERVAL:P3D
CALSCALE:GREGORIAN
BEGIN:VEVENT
DTSTART:20130516T190000Z
DTEND:20130516T200000Z
X-MICROSOFT-CDO-ALLDAYEVENT:FALSE
SUMMARY:2013 May LUNCH BYTES: Social Media: Google Plus
DESCRIPTION:Social Media: Google Plus\n\nGoogle search is now putting Google Plus near the top of search results. If you are not signed up with Google+ and Google Maps\, you will not show well in local search results.\n\nAttend this free Lunch Bytes workshop. Find out why Google+ is important to your business\, and get your business signed up and showing online.
X-ALT-DESC;FMTTYPE=text/html:<span style="font-size: 11pt"><span style="color: #1f497d"><span style="font-family: calibri\, sans-serif">Social Media: Google Plus</span></span></span><br />\n<span style="font-size: 11pt"><span style="color: #1f497d"><span style="font-family: calibri\, sans-serif">Google search is now putting Google Plus near the top of search results. If you are not signed up with Google+ and Google Maps\, you will not show well in local search results.</span></span></span><br />\n<span style="font-size: 11pt"><span style="color: #1f497d"><span style="font-family: calibri\, sans-serif">Attend this free Lunch Bytes workshop. Find out why <a href="http://www.google.com/+/business/get-found.html" title="blocked::http://www.google.com/+/business/get-found.html">Google+</a> is important to your business\, and get your business signed up and showing online.</span></span></span><br />\n
LOCATION:Fresno Pacific University - Visalia Campus Computer Lab Room 102 245 N Plaza Drive Visalia 93291
UID:e.1273.823
SEQUENCE:3
DTSTAMP:20260421T083747Z
URL:https://business.visaliachamber.org/events/details/2013-may-lunch-bytes-social-media-google-plus-05-16-2013-823
END:VEVENT

END:VCALENDAR
