BEGIN:VCALENDAR
VERSION:2.0
PRODID:-//ChamberMaster//Event Calendar 2.0//EN
METHOD:PUBLISH
X-PUBLISHED-TTL:P3D
REFRESH-INTERVAL:P3D
CALSCALE:GREGORIAN
BEGIN:VEVENT
DTSTART:20260619T150000Z
DTEND:20260619T180000Z
X-MICROSOFT-CDO-ALLDAYEVENT:FALSE
SUMMARY:30th Anniversary Annual Meeting
DESCRIPTION:Hello Members\, Partners & Friends of VEDC\,\n\n\n\nWe are looking forward to our Annual Meeting\, set for 8:00 a.m. on Friday\, June 19\, 2026\, at the Wyndham Hotel.\n\nWe are working to secure sponsorships to cover the event costs\, and we welcome your support. Each has a corresponding level of acknowledgment\, such as advance promotion\, news release\, and recognition in the E-newsletter. \n\n \n\nThe levels are:\n\n$2\,500 Sponsor: Recognition in the news release\; logo placement in the VEDC E-newsletter\; logo placement in the printed program\; brief comments from the podium\, if desired\; table of 8.\n\n \n\n$1\,000 Sponsor: Recognition in the news release\; recognition in the Enewsletter\; logo placement in the printed event program\; table of 8.\n\n \n\n$750 Sponsor: Recognition in the E-newsletter\; logo placement in the event program\; table of 8.\n\n \n\n$500 Sponsor: Logo placement in the event program.\n\n \n\nA table of 8 is available for $300 per table.\n\n \n\nAll sponsorship commitments must be received by June 13\, 2026.\n\n \n\nWe are asking all sponsors to request an invoice or pay by credit card.\n\n \n\nThank you for your participation and ongoing support of the VEDC.\n\n \n\nPlease contact Bruce Nicotero\, Executive Director at 559.901.4207 or ban1951@comcast.net if you have questions.\n\n \n\nWe look forward to seeing you at our Annual Meeting!
X-ALT-DESC;FMTTYPE=text/html:<p><span style="font-size:10.5pt\;font-family:&quot\;Tahoma&quot\;\,sans-serif\;color:#3E3E3E">Hello Members\, Partners &amp\; Friends of VEDC\,<br />\n<o:p></o:p></span></p>\n\n<p><span style="font-size:10.5pt\;font-family:&quot\;Tahoma&quot\;\,sans-serif\;color:#3E3E3E">We are looking forward to our Annual Meeting\, set for 8:00 a.m. on Friday\, June 19\, 2026\, at the Wyndham Hotel.<o:p></o:p></span></p>\n\n<p><span style="font-size:10.5pt\;font-family:&quot\;Tahoma&quot\;\,sans-serif\;color:#3E3E3E">We are working to secure sponsorships to cover the event costs\, and we welcome your support. Each has a corresponding level of acknowledgment\, such as advance promotion\, news release\, and recognition in the E-newsletter. <o:p></o:p></span></p>\n\n<p>&nbsp\;</p>\n\n<p><span style="font-size:10.5pt\;font-family:&quot\;Tahoma&quot\;\,sans-serif\;color:#3E3E3E">The levels are:<o:p></o:p></span></p>\n\n<p><b><span style="font-size:10.5pt\;font-family:&quot\;Tahoma&quot\;\,sans-serif\;color:#3E3E3E">$2\,500 Sponsor:</span></b><span style="font-size:10.5pt\;font-family:&quot\;Tahoma&quot\;\,sans-serif\;\ncolor:#3E3E3E"> Recognition in the news release\; logo placement in the VEDC E-newsletter\; logo placement in the printed program\; brief comments from the podium\, if desired\; table of 8.<o:p></o:p></span></p>\n\n<p><span style="font-size:10.5pt\;font-family:&quot\;Tahoma&quot\;\,sans-serif\;color:#3E3E3E"><o:p>&nbsp\;</o:p></span></p>\n\n<p><b><span style="font-size:10.5pt\;font-family:&quot\;Tahoma&quot\;\,sans-serif\;color:#3E3E3E">$1\,000 Sponsor:</span></b><span style="font-size:10.5pt\;font-family:&quot\;Tahoma&quot\;\,sans-serif\;\ncolor:#3E3E3E"> Recognition in the news release\; recognition in the Enewsletter\; logo placement in the printed event program\; table of 8.<o:p></o:p></span></p>\n\n<p><span style="font-size:10.5pt\;font-family:&quot\;Tahoma&quot\;\,sans-serif\;color:#3E3E3E"><o:p>&nbsp\;</o:p></span></p>\n\n<p><b><span style="font-size:10.5pt\;font-family:&quot\;Tahoma&quot\;\,sans-serif\;color:#3E3E3E">$750 Sponsor:</span></b><span style="font-size:10.5pt\;font-family:&quot\;Tahoma&quot\;\,sans-serif\;\ncolor:#3E3E3E"> Recognition in the E-newsletter\; logo placement in the event program\; table of 8.<o:p></o:p></span></p>\n\n<p><span style="font-size:10.5pt\;font-family:&quot\;Tahoma&quot\;\,sans-serif\;color:#3E3E3E"><o:p>&nbsp\;</o:p></span></p>\n\n<p><b><span style="font-size:10.5pt\;font-family:&quot\;Tahoma&quot\;\,sans-serif\;color:#3E3E3E">$500 Sponsor:</span></b><span style="font-size:10.5pt\;font-family:&quot\;Tahoma&quot\;\,sans-serif\;\ncolor:#3E3E3E"> Logo placement in the event program.<o:p></o:p></span></p>\n\n<p><span style="font-size:10.5pt\;font-family:&quot\;Tahoma&quot\;\,sans-serif\;color:#3E3E3E"><o:p>&nbsp\;</o:p></span></p>\n\n<p><span style="font-size:10.5pt\;font-family:&quot\;Tahoma&quot\;\,sans-serif\;color:#3E3E3E">A table of 8 is available for $300 per table.<o:p></o:p></span></p>\n\n<p><span style="font-size:10.5pt\;font-family:&quot\;Tahoma&quot\;\,sans-serif\;color:#3E3E3E"><o:p>&nbsp\;</o:p></span></p>\n\n<p><span style="font-size:10.5pt\;font-family:&quot\;Tahoma&quot\;\,sans-serif\;color:#3E3E3E">All sponsorship commitments must be received by June 13\, 2026.<o:p></o:p></span></p>\n\n<p>&nbsp\;</p>\n\n<p><span style="font-size:10.5pt\;font-family:&quot\;Tahoma&quot\;\,sans-serif\;color:#3E3E3E">We are asking all sponsors to request an invoice or pay by credit card.</span><br />\n&nbsp\;</p>\n\n<p><span style="font-size:10.5pt\;font-family:&quot\;Tahoma&quot\;\,sans-serif\;color:#3E3E3E">Thank you for your participation and ongoing support of the VEDC.<o:p></o:p></span></p>\n\n<p><span style="font-size:10.5pt\;font-family:&quot\;Tahoma&quot\;\,sans-serif\;color:#3E3E3E"><o:p>&nbsp\;</o:p></span></p>\n\n<p><span style="font-size:10.5pt\;font-family:&quot\;Tahoma&quot\;\,sans-serif\;color:#3E3E3E">Please contact Bruce Nicotero\, Executive Director at 559.901.4207 or <a href="mailto:ban1951@comcast.net">ban1951@comcast.net</a> if you have questions.<o:p></o:p></span></p>\n\n<p><span style="font-size:10.5pt\;font-family:&quot\;Tahoma&quot\;\,sans-serif\;color:#3E3E3E"><o:p>&nbsp\;</o:p></span></p>\n\n<p><span style="font-size:10.5pt\;font-family:&quot\;Tahoma&quot\;\,sans-serif\;color:#3E3E3E">We look forward to seeing you at our Annual Meeting!<o:p></o:p></span></p>\n\n<p><span style="font-size:10.5pt\;font-family:&quot\;Tahoma&quot\;\,sans-serif\;color:#3E3E3E"><o:p></o:p></span></p>\n
LOCATION:Wyndham Hotel
UID:e.1273.22952
SEQUENCE:3
DTSTAMP:20260424T185341Z
URL:https://business.visaliachamber.org/events/details/30th-anniversary-annual-meeting-22952
END:VEVENT

END:VCALENDAR
