BEGIN:VCALENDAR
VERSION:2.0
PRODID:-//ChamberMaster//Event Calendar 2.0//EN
METHOD:PUBLISH
X-PUBLISHED-TTL:P3D
REFRESH-INTERVAL:P3D
CALSCALE:GREGORIAN
BEGIN:VEVENT
DTSTART:20260510T180000Z
DTEND:20260510T210000Z
X-MICROSOFT-CDO-ALLDAYEVENT:FALSE
SUMMARY:Annual Mother's Day Brunch at The Woodlands
DESCRIPTION:Join us for Visalia's premier annual Mother's Day Brunch at The Woodlands on May 11th!\n\n\n\n\n\nTICKETS ON SALE SUNDAY MARCH 1ST AT 12:00 PM\n\n \n\nVisalia's Premier Annual Mother's Day Brunch at The Woodlands\n\nCelebrate Mom in style with a delightful Mother's Day Brunch at The Woodlands in Visalia! Join us on Sunday\, May 10th\, from 11 AM to 2 PM for a beautiful outdoor experience filled with great food\, live entertainment\, and unforgettable moments.\n\nEnjoy A Classic Brunch! Indulge in a delicious spread of breakfast and lunch favorites provided by The Collective Catering.\n\nCash Bar! Sip on refreshing mimosas\, cocktails\, and more.\n\nPhoto Booth! Capture special moments with Mom!\n\nTreat the amazing mothers in your life to a day of love\, laughter\, and appreciation. Tickets are limited\, so grab yours!\n\nLocation: The Woodlands\, Visalia\n\nDate: Sunday\, May 10\, 2026\n\nTime: 11 AM - 2 PM\n\nWe can't wait to celebrate with you!
X-ALT-DESC;FMTTYPE=text/html:<div class="Overview_title__FO2Z4" style="box-sizing: border-box\; padding: 0px 0px 16px\; margin: 0px\; font-weight: 600\; line-height: 31.92px\; font-size: 24px\; color: rgb(38\, 27\, 54)\; font-family: &quot\;Neue Plak&quot\;\, -apple-system\, BlinkMacSystemFont\, Roboto\, &quot\;Helvetica Neue&quot\;\, Helvetica\, Tahoma\, Arial\, sans-serif\;">\n<div class="StructuredModuleRenderer_structuredContent__k7mNB StructuredModuleRenderer_text__GaXOv" data-testid="text-content" style="box-sizing: border-box\; padding: 0px\; margin: 0px\; color: rgb(88\, 81\, 99)\; align-self: stretch\; overflow: hidden\; text-overflow: ellipsis\; line-height: 23.94px\; letter-spacing: 0.1px\; font-size: 18px\; font-family: &quot\;Neue Plak&quot\;\, -apple-system\, BlinkMacSystemFont\, Roboto\, &quot\;Helvetica Neue&quot\;\, Helvetica\, Tahoma\, Arial\, sans-serif\;">\n<div style="box-sizing: border-box\; padding: 0px\; margin: 0px\;">\n<p style="box-sizing: border-box\; padding: 0px 0px 12px\; margin: 0px\;">Join us for Visalia&#39\;s premier annual Mother&#39\;s Day Brunch at The Woodlands on May 11th!</p>\n</div>\n</div>\n\n<div class="StructuredModuleRenderer_structuredContent__k7mNB StructuredModuleRenderer_text__GaXOv" data-testid="text-content" style="box-sizing: border-box\; padding: 0px\; margin: 0px\; color: rgb(88\, 81\, 99)\; align-self: stretch\; overflow: hidden\; text-overflow: ellipsis\; line-height: 23.94px\; letter-spacing: 0.1px\; font-size: 18px\; font-family: &quot\;Neue Plak&quot\;\, -apple-system\, BlinkMacSystemFont\, Roboto\, &quot\;Helvetica Neue&quot\;\, Helvetica\, Tahoma\, Arial\, sans-serif\;">\n<div style="box-sizing: border-box\; padding: 0px\; margin: 0px\;">\n<p style="box-sizing: border-box\; padding: 0px 0px 12px\; margin: 0px\;"><em style="box-sizing: border-box\; padding: 0px\; margin: 0px\;"><span style="box-sizing: border-box\; padding: 0px\; margin: 0px\; font-weight: 600\;">TICKETS ON SALE SUNDAY MARCH 1ST AT 12:00 PM</span></em></p>\n\n<p style="box-sizing: border-box\; padding: 0px 0px 12px\; margin: 12px 0px 0px\;">&nbsp\;</p>\n\n<h3 style="box-sizing: border-box\; padding: 0px\; margin: 12px 0px 0px\; font-weight: 600\; font-size: 20px\;"><span style="box-sizing: border-box\; padding: 0px\; margin: 0px\;">Visalia&rsquo\;s Premier Annual Mother&rsquo\;s Day Brunch at The Woodlands</span></h3>\n\n<p style="box-sizing: border-box\; padding: 0px 0px 12px\; margin: 12px 0px 0px\;">Celebrate Mom in style with a delightful&nbsp\;<span style="box-sizing: border-box\; padding: 0px\; margin: 0px\; font-weight: 600\;">Mother&rsquo\;s Day Brunch</span>&nbsp\;at&nbsp\;<span style="box-sizing: border-box\; padding: 0px\; margin: 0px\; font-weight: 600\;">The Woodlands in Visalia</span>! Join us on&nbsp\;<span style="box-sizing: border-box\; padding: 0px\; margin: 0px\; font-weight: 600\;">Sunday\, May 10th\, from 11 AM to 2 PM</span>&nbsp\;for a beautiful outdoor experience filled with great food\, live entertainment\, and unforgettable moments.</p>\n\n<p style="box-sizing: border-box\; padding: 0px 0px 12px\; margin: 12px 0px 0px\;"><span style="box-sizing: border-box\; padding: 0px\; margin: 0px\; font-weight: 600\;">Enjoy&nbsp\;</span><span style="box-sizing: border-box\; padding: 0px\; margin: 0px\; font-weight: 600\;">A Classic Brunch!</span>&nbsp\;Indulge in a delicious spread of breakfast and lunch favorites provided by&nbsp\;<span style="box-sizing: border-box\; padding: 0px\; margin: 0px\; font-weight: 600\;">The Collective Catering</span>.<br style="box-sizing: border-box\; padding: 0px\; margin: 0px\;" />\n<span style="box-sizing: border-box\; padding: 0px\; margin: 0px\; font-weight: 600\;">Cash Bar!</span>&nbsp\;Sip on refreshing mimosas\, cocktails\, and more.<br style="box-sizing: border-box\; padding: 0px\; margin: 0px\;" />\n<span style="box-sizing: border-box\; padding: 0px\; margin: 0px\; font-weight: 600\;">Photo Booth!</span>&nbsp\;Capture special moments with Mom!</p>\n\n<p style="box-sizing: border-box\; padding: 0px 0px 12px\; margin: 12px 0px 0px\;">Treat the amazing mothers in your life to a day of love\, laughter\, and appreciation.&nbsp\;<span style="box-sizing: border-box\; padding: 0px\; margin: 0px\; font-weight: 600\;">Tickets are limited\, so grab yours!</span></p>\n\n<p style="box-sizing: border-box\; padding: 0px 0px 12px\; margin: 12px 0px 0px\;"><span style="box-sizing: border-box\; padding: 0px\; margin: 0px\; font-weight: 600\;">Location:</span>&nbsp\;The Woodlands\, Visalia<br style="box-sizing: border-box\; padding: 0px\; margin: 0px\;" />\n<span style="box-sizing: border-box\; padding: 0px\; margin: 0px\; font-weight: 600\;">Date:</span>&nbsp\;Sunday\, May 10\, 2026<br style="box-sizing: border-box\; padding: 0px\; margin: 0px\;" />\n<span style="box-sizing: border-box\; padding: 0px\; margin: 0px\; font-weight: 600\;">Time:</span>&nbsp\;11 AM - 2 PM</p>\n\n<p style="box-sizing: border-box\; padding: 0px 0px 12px\; margin: 12px 0px 0px\;">We can&rsquo\;t wait to celebrate with you!</p>\n</div>\n</div>\n</div>\n
LOCATION:Join us for Visalia's premier annual Mother's Day Brunch at The Woodlands on May 11th! TICKETS ON SALE SUNDAY MARCH 1ST AT 12:00 PM Visalia's Premier Annual Mother's Day Brunch at The Woodlands Celebrate Mom in style with a delightful Mother's Day Brunch at The Woodlands in Visalia! Join us on Sunday\, May 10th\, from 11 AM to 2 PM for a beautiful outdoor experience filled with great food\, live entertainment\, and unforgettable moments. Enjoy A Classic Brunch! Indulge in a delicious spread of breakfast and lunch favorites provided by The Collective Catering. Cash Bar! Sip on refreshing mimosas\, cocktails\, and more. Photo Booth! Capture special moments with Mom! Treat the amazing mothers in your life to a day of love\, laughter\, and appreciation. Tickets are limited\, so grab yours! Location: The Woodlands\, Visalia Date: Sunday\, May 10\, 2026 Time: 11 AM - 2 PM We can't wait to celebrate with you!
UID:e.1273.21271
SEQUENCE:3
DTSTAMP:20260424T224543Z
URL:https://business.visaliachamber.org/events/details/annual-mother-s-day-brunch-at-the-woodlands-21271
END:VEVENT

END:VCALENDAR
