BEGIN:VCALENDAR
VERSION:2.0
PRODID:-//ChamberMaster//Event Calendar 2.0//EN
METHOD:PUBLISH
X-PUBLISHED-TTL:P3D
REFRESH-INTERVAL:P3D
CALSCALE:GREGORIAN
BEGIN:VEVENT
DTSTART:20260501T170000Z
DTEND:20260619T220000Z
X-MICROSOFT-CDO-ALLDAYEVENT:FALSE
SUMMARY:Art Exhibit “Visalia Around the World”
DESCRIPTION:Opening Reception May 1st during F1rst Friday 4:30pm - 8pm Visalia Around the World\, an exhibit curated by Efrain Becerra\, showcases over 23 countries through authentic national attire\, each telling a story of heritage\, migration\, and lived experience. This exhibition highlights the richness of global cultures while celebrating the diversity that lives\, works\, and thrives right here in Visalia. The exhibit is presented through AMELAT (Artistic Multicultural Expression of Love and Talent)\, an inclusive cultural initiative Efrain Becerra has led since 2016\, dedicated to preserving cultural heritage while fostering unity\, education\, and artistic expression across the Central Valley. Join us for a night of celebration with live cultural elements including dance\, music\, and artistic storytelling.
X-ALT-DESC;FMTTYPE=text/html:Opening Reception May 1st during F1rst Friday 4:30pm - 8pm Visalia Around the World\, an exhibit curated by Efrain Becerra\, showcases over 23 countries through authentic national attire\, each telling a story of heritage\, migration\, and lived experience. This exhibition highlights the richness of global cultures while celebrating the diversity that lives\, works\, and thrives right here in Visalia. The exhibit is presented through AMELAT (Artistic Multicultural Expression of Love and Talent)\, an inclusive cultural initiative Efrain Becerra has led since 2016\, dedicated to preserving cultural heritage while fostering unity\, education\, and artistic expression across the Central Valley. Join us for a night of celebration with live cultural elements including dance\, music\, and artistic storytelling.
LOCATION:340 E Oak Ave\, Suite 112
UID:e.1273.22961
SEQUENCE:3
DTSTAMP:20260423T101712Z
URL:https://business.visaliachamber.org/events/details/art-exhibit-visalia-around-the-world-22961
END:VEVENT

END:VCALENDAR
