BEGIN:VCALENDAR
VERSION:2.0
PRODID:-//ChamberMaster//Event Calendar 2.0//EN
METHOD:PUBLISH
X-PUBLISHED-TTL:P3D
REFRESH-INTERVAL:P3D
CALSCALE:GREGORIAN
BEGIN:VEVENT
DTSTART:20260402T190000Z
DTEND:20260403T003000Z
X-MICROSOFT-CDO-ALLDAYEVENT:FALSE
SUMMARY:Arts Visalia Presents: Symbiosis by Cheryl Coon and The Cigarette Box Project by Angel Lesnikowski
DESCRIPTION:Arts Visalia Presents: Symbiosis by Cheryl Coon and The Cigarette Box Project by Angel Lesnikowski\n\n\n\nExplore the microcosm of Symbiosis by Cheryl Coon this April. Cheryl Coon is a Bay-Area based artist that uses wire and plastic to bring microscopic organisms to a macro level through sensory-rich sculpture.\n\nContinue the journey into a reflective desert experience with the landscape paintings of Fresno-based artist Angel Lesnikowski with The Cigarette Box Project. See the transformation of empty cigarette boxes into miniature windows filled with vibrant landscapes designed to invoke reflection on our survival.\n\n\n\nThe immersive microbiome sculptures of Bay Area artist Cheryl Coon and the thoughtful reconsiderations of discarded cigarette boxes turned landscape paintings by Fresno based artist Angel Lesnikowski will be on display April 2 ? 25\, 2026. A free Opening Reception will take place on Friday\, April 3 with extended gallery hours 12:00 pm ? 7:30 pm. Meet the Artists during a free Artist Talk on Saturday April 4 starting at 2:00 pm.
X-ALT-DESC;FMTTYPE=text/html:<strong>Arts Visalia Presents: Symbiosis by Cheryl Coon and The Cigarette Box Project by Angel Lesnikowski</strong><br>\n<br>\nExplore the microcosm of Symbiosis by Cheryl Coon this April. Cheryl Coon is a Bay-Area based artist that uses wire and plastic to bring microscopic organisms to a macro level through sensory-rich sculpture.<br>\nContinue the journey into a reflective desert experience with the landscape paintings of Fresno-based artist Angel Lesnikowski with The Cigarette Box Project. See the transformation of empty cigarette boxes into miniature windows filled with vibrant landscapes designed to invoke reflection on our survival.<br>\n<br>\n<span style="font-family:aptos\,sans-serif\;"><span style="font-size:12.0pt\;">The immersive microbiome sculptures of Bay Area artist Cheryl Coon and the thoughtful reconsiderations of discarded cigarette boxes turned landscape paintings by Fresno based artist Angel Lesnikowski will be on display April 2 ? 25\, 2026. A free Opening Reception will take place on Friday\, April 3 with extended gallery hours 12:00 pm ? 7:30 pm. Meet the Artists during a free Artist Talk on Saturday April 4 starting at 2:00 pm.</span></span><br>\n&nbsp\;
LOCATION:Arts Visalia Visual Art Center 214 E. Oak Ave. Visalia\, CA 93291
UID:e.1273.21278
SEQUENCE:3
DTSTAMP:20260424T170152Z
URL:https://business.visaliachamber.org/events/details/arts-visalia-presents-symbiosis-by-cheryl-coon-and-the-cigarette-box-project-by-angel-lesnikowski-21278
END:VEVENT

END:VCALENDAR
