BEGIN:VCALENDAR
VERSION:2.0
PRODID:-//ChamberMaster//Event Calendar 2.0//EN
METHOD:PUBLISH
X-PUBLISHED-TTL:P3D
REFRESH-INTERVAL:P3D
CALSCALE:GREGORIAN
BEGIN:VEVENT
DTSTART:20201007T170000Z
DTEND:20201009T020000Z
X-MICROSOFT-CDO-ALLDAYEVENT:FALSE
SUMMARY:Ashoori & Co Jewelers Two-Day Designer Event: Fine Jewelry Trunk Show
DESCRIPTION:Join Ashoori & Co Jewelers for two-day Designer Event\, Fine Jewelry Trunk Show!\n\n	30% Off In-Store!\n	Free Gift With Purchase!\n	RSVP AT 559-625-3119 FOR AN ADDITIONAL 10% OFF!
X-ALT-DESC;FMTTYPE=text/html:Join Ashoori &amp\; Co Jewelers for two-day Designer Event\, Fine Jewelry Trunk Show!\n<ul>\n	<li>30% Off In-Store!</li>\n	<li>Free Gift With Purchase!</li>\n	<li><strong>RSVP AT 559-625-3119 FOR AN ADDITIONAL 10% OFF!</strong></li>\n</ul>\n
LOCATION:Ashoori & Co Jewelers 4212 S Mooney Blvd
UID:e.1273.12683
SEQUENCE:3
DTSTAMP:20260422T233013Z
URL:https://business.visaliachamber.org/events/details/ashoori-co-jewelers-two-day-designer-event-fine-jewelry-trunk-show-12683
END:VEVENT

END:VCALENDAR
