BEGIN:VCALENDAR
VERSION:2.0
PRODID:-//ChamberMaster//Event Calendar 2.0//EN
METHOD:PUBLISH
X-PUBLISHED-TTL:P3D
REFRESH-INTERVAL:P3D
CALSCALE:GREGORIAN
BEGIN:VEVENT
DTSTART:20201007T170000Z
DTEND:20201007T180000Z
X-MICROSOFT-CDO-ALLDAYEVENT:FALSE
SUMMARY:CalOSBA & GO-Biz Webinar: Make Your Website Work for You
DESCRIPTION:Join the California Office of the Small Business Advocate (CalOSBA)\, in the Governor's Office of Business & Economic Development (GO-Biz) and Grow with Google for a webinar series for CA small businesses. This is a workshop series offered on multiple dates. See the list of topics below and select the date you wish to attend. To register for multiple sessions\, please navigate back to this page from the confirmation page using the back button on your browser.\n\n \n\n\n10/07/2020: Use YouTube to Grow Your Business - 10:00 AM PT Get best practices for creating a YouTube Channel and compelling video content that promotes your products and services and drives engagement with your brand.
X-ALT-DESC;FMTTYPE=text/html:<span style="font-family: lato-regular\, HelveticaNeueW01-55Roma\, &quot\;Helvetica Neue&quot\;\, Helvetica\, Arial\, sans-serif\; font-size: 14px\; white-space: pre-wrap\;">Join the California Office of the Small Business Advocate (CalOSBA)\, in the Governor&#39\;s Office of Business &amp\; Economic Development (GO-Biz) and Grow with Google for a webinar series for CA small businesses. This is a workshop series offered on multiple dates. See the list of topics below and select the date you wish to attend. To register for multiple sessions\, please navigate back to this page from the confirmation page using the back button on your browser.</span><br />\n&nbsp\;\n<div data-active-view="true" data-bind="visible:getWebinarInfo().description" data-view="registration/body/body.description" style="box-sizing: border-box\; overflow-wrap: break-word\; font-family: lato-regular\, &quot\;Helvetica Neue&quot\;\, Helvetica\, Arial\, sans-serif\; font-size: 14px\;">\n<div class="description trainingDescription" style="box-sizing: border-box\; overflow-wrap: break-word\; font-family: lato-regular\, HelveticaNeueW01-55Roma\, &quot\;Helvetica Neue&quot\;\, Helvetica\, Arial\, sans-serif\;">\n<div class="clearfix" style="box-sizing: border-box\; overflow-wrap: break-word\;"><span class="registration-description" data-bind="expander:{'expandText': moreButtonText()\, 'userCollapseText': lessButtonText()\, 'text':getWebinarInfo().description}" style="box-sizing: border-box\; overflow-wrap: break-word\; white-space: pre-wrap\;">10/07/2020: Use YouTube to Grow Your Business - 10:00 AM PT Get best practices for creating a YouTube Channel and compelling video content that promotes your products and services and drives engagement with your brand.</span></div>\n\n<div>&nbsp\;</div>\n</div>\n</div>\n\n<div class="questions" data-active-view="true" data-view="registration/body/body.registrationQuestions" style="box-sizing: border-box\; overflow-wrap: break-word\; font-family: lato-regular\, &quot\;Helvetica Neue&quot\;\, Helvetica\, Arial\, sans-serif\; font-size: 14px\;">&nbsp\;</div>\n
LOCATION:
UID:e.1273.12635
SEQUENCE:3
DTSTAMP:20260422T232816Z
URL:https://business.visaliachamber.org/events/details/calosba-go-biz-webinar-make-your-website-work-for-you-12635
END:VEVENT

END:VCALENDAR
