BEGIN:VCALENDAR
VERSION:2.0
PRODID:-//ChamberMaster//Event Calendar 2.0//EN
METHOD:PUBLISH
X-PUBLISHED-TTL:P3D
REFRESH-INTERVAL:P3D
CALSCALE:GREGORIAN
BEGIN:VEVENT
DTSTART:20260613T153000Z
DTEND:20260613T221500Z
X-MICROSOFT-CDO-ALLDAYEVENT:FALSE
SUMMARY:CASA Volunteer Training
DESCRIPTION:Train to become a volunteer court-appointed special advocate and speak up for the abused and neglected children of Tulare County in juvenile court.
X-ALT-DESC;FMTTYPE=text/html:Train to become a volunteer court-appointed special advocate and speak up for the abused and neglected children of Tulare County in juvenile court.
LOCATION:CASA of Tulare County 1146 N. Chinowth St. Visalia\, CA 93291
UID:e.1273.22963
SEQUENCE:3
DTSTAMP:20260424T185335Z
URL:https://business.visaliachamber.org/events/details/casa-volunteer-training-06-13-2026-22963
END:VEVENT

END:VCALENDAR
