BEGIN:VCALENDAR
VERSION:2.0
PRODID:-//ChamberMaster//Event Calendar 2.0//EN
METHOD:PUBLISH
X-PUBLISHED-TTL:P3D
REFRESH-INTERVAL:P3D
CALSCALE:GREGORIAN
BEGIN:VEVENT
DTSTART:20111203T010000Z
DTEND:20111203T073000Z
X-MICROSOFT-CDO-ALLDAYEVENT:FALSE
SUMMARY:Christmas Tree Auction
DESCRIPTION:
X-ALT-DESC;FMTTYPE=text/html:
LOCATION:
UID:e.1273.4
SEQUENCE:3
DTSTAMP:20260424T101204Z
URL:https://business.visaliachamber.org/events/details/christmas-tree-auction-12-02-2011-4
END:VEVENT

END:VCALENDAR
