BEGIN:VCALENDAR
VERSION:2.0
PRODID:-//ChamberMaster//Event Calendar 2.0//EN
METHOD:PUBLISH
X-PUBLISHED-TTL:P3D
REFRESH-INTERVAL:P3D
CALSCALE:GREGORIAN
BEGIN:VEVENT
DTSTART:20260402T220000Z
DTEND:20260403T000000Z
X-MICROSOFT-CDO-ALLDAYEVENT:FALSE
SUMMARY:COS: Essential HR
DESCRIPTION:NEW: Starting in Spring 2026\, this class is available live online through Zoom OR in-person! For Zoom participants\, please be prepared to participate in the training just as if you were sitting in-person. This course on Human Resources is designed to provide trainees with a comprehensive understanding of the management of an organization?s workforce. The course covers a wide range of topics\, including human resource planning\, recruitment and selection\, training and development\, performance management\, employee relations\, compensation and benefits\, and diversity and inclusion. The course begins with an introduction to the concept of human resources and its importance in modern-day organizations. The trainees are then introduced to the process of human resource planning\, which involves forecasting the future workforce requirements of an organization\, identifying the necessary skills and knowledge\, and developing strategies to meet those requirements. The course also covers the recruitment and selection process\, including the different sources of recruitment\, the recruitment process\, and the selection process. Trainees learn about various selection techniques\, such as interviews\, testing\, and assessment centers.
X-ALT-DESC;FMTTYPE=text/html:NEW: Starting in Spring 2026\, this class is available live online through Zoom OR in-person! For Zoom participants\, please be prepared to participate in the training just as if you were sitting in-person. This course on Human Resources is designed to provide trainees with a comprehensive understanding of the management of an organization?s workforce. The course covers a wide range of topics\, including human resource planning\, recruitment and selection\, training and development\, performance management\, employee relations\, compensation and benefits\, and diversity and inclusion. The course begins with an introduction to the concept of human resources and its importance in modern-day organizations. The trainees are then introduced to the process of human resource planning\, which involves forecasting the future workforce requirements of an organization\, identifying the necessary skills and knowledge\, and developing strategies to meet those requirements. The course also covers the recruitment and selection process\, including the different sources of recruitment\, the recruitment process\, and the selection process. Trainees learn about various selection techniques\, such as interviews\, testing\, and assessment centers.
LOCATION:COS Training ResourceCenter 1233 N. Century St. Visalia\, CA 93291
UID:e.1273.21297
SEQUENCE:3
DTSTAMP:20260424T184119Z
URL:https://business.visaliachamber.org/events/details/cos-essential-hr-04-02-2026-21297
END:VEVENT

END:VCALENDAR
