BEGIN:VCALENDAR
VERSION:2.0
PRODID:-//ChamberMaster//Event Calendar 2.0//EN
METHOD:PUBLISH
X-PUBLISHED-TTL:P3D
REFRESH-INTERVAL:P3D
CALSCALE:GREGORIAN
BEGIN:VEVENT
DTSTART:20260506T003000Z
DTEND:20260506T050000Z
X-MICROSOFT-CDO-ALLDAYEVENT:FALSE
SUMMARY:Costco Wholesale: Community Night at the Ballpark
DESCRIPTION:We'll be offering free tickets (while supplies last) to those who visit the new Costco warehouse details and address are included on the flyer by May 5. That evening\, guests can enjoy giveaways from our Optical\, Pharmacy\, Hearing Aid\, and Marketing departments. This is our way of thanking the community for 36 years of support and welcoming them to our new warehouse.
X-ALT-DESC;FMTTYPE=text/html:<p style="margin-top:12.0pt\;margin-right:0in\;margin-bottom:12.0pt\;margin-left:\n0in"><span style="font-size:16px\;"><span style="font-family:arial\;"><span style="color: black\;">We&rsquo\;ll be offering free tickets (while supplies last) to those who visit the new Costco warehouse&mdash\;details and address are included on the flyer&mdash\;by May 5. That evening\, guests can enjoy giveaways from our Optical\, Pharmacy\, Hearing Aid\, and Marketing departments. This is our way of thanking the community for 36 years of support and welcoming them to our new warehouse.</span></span></span><o:p></o:p></p>\n
LOCATION:Tickets: 6610 W. Riggin Ave\, Visalia CA Game: 300 N Giddings St\, Visalia\, CA 93291
UID:e.1273.22968
SEQUENCE:3
DTSTAMP:20260424T165810Z
URL:https://business.visaliachamber.org/events/details/costco-wholesale-community-night-at-the-ballpark-22968
END:VEVENT

END:VCALENDAR
