BEGIN:VCALENDAR
VERSION:2.0
PRODID:-//ChamberMaster//Event Calendar 2.0//EN
METHOD:PUBLISH
X-PUBLISHED-TTL:P3D
REFRESH-INTERVAL:P3D
CALSCALE:GREGORIAN
BEGIN:VEVENT
DTSTART:20260504T150000Z
DTEND:20260601T190000Z
X-MICROSOFT-CDO-ALLDAYEVENT:FALSE
SUMMARY:Electrical Systems (SACA C-201)
DESCRIPTION:Prepare for or develop your career in industrial environments with Electrical Systems 1 (SACA C-201)   a foundational\, hands-on training designed to develop essential industrial electrical skills and prepare you for the Smart Automation Certification Alliance (SACA) credential. SACA's credentials are industry-driven and recognized for validating real-world competency in key electrical and smart automation technologies used in today's advanced manufacturing workplaces. This immersive training builds your ability to safely apply\, connect\, operate\, analyze\, and troubleshoot electrical systems and components used in industrial automation settings. You'll gain both theoretical understanding and practical skills across a broad range of electrical fundamentals\, preparing you for the SACA C-201 Electrical Systems 1 micro-credential assessment.
X-ALT-DESC;FMTTYPE=text/html:Prepare for or develop your career in industrial environments with Electrical Systems 1 (SACA C-201) &mdash\; a foundational\, hands-on training designed to develop essential industrial electrical skills and prepare you for the Smart Automation Certification Alliance (SACA) credential. SACA&rsquo\;s credentials are industry-driven and recognized for validating real-world competency in key electrical and smart automation technologies used in today&rsquo\;s advanced manufacturing workplaces. This immersive training builds your ability to safely apply\, connect\, operate\, analyze\, and troubleshoot electrical systems and components used in industrial automation settings. You&rsquo\;ll gain both theoretical understanding and practical skills across a broad range of electrical fundamentals\, preparing you for the SACA C-201 Electrical Systems 1 micro-credential assessment.
LOCATION:COS Training Resource Center 1233 N. Century St. Visalia\, CA 93291
UID:e.1273.21267
SEQUENCE:3
DTSTAMP:20260424T185953Z
URL:https://business.visaliachamber.org/events/details/electrical-systems-saca-c-201-21267
END:VEVENT

END:VCALENDAR
