BEGIN:VCALENDAR
VERSION:2.0
PRODID:-//ChamberMaster//Event Calendar 2.0//EN
METHOD:PUBLISH
X-PUBLISHED-TTL:P3D
REFRESH-INTERVAL:P3D
CALSCALE:GREGORIAN
BEGIN:VEVENT
DTSTART:20260602T150000Z
DTEND:20260625T190000Z
X-MICROSOFT-CDO-ALLDAYEVENT:FALSE
SUMMARY:FANUC Industrial Robotics HandlingTool Programming & Operation
DESCRIPTION:This in-person 40-hour training is designed to give participants the skills needed to safely operate\, program\, and troubleshoot FANUC industrial robots used in manufacturing. After completing the course\, trainees will be able to safely jog and operate a robot\, create and modify material handling programs\, recover from common faults\, and manage robot files and I/O signals. Participants will use FANUC robot controllers (R-J3iB through R-30iB) with HandlingTool application software and teach pendants. The class combines classroom instruction with hands-on lab exercises on industrial robot work cells. All exercises include recommended safety procedures. A pre-assessment and post- ssessment exam are administered to measure knowledge gained.
X-ALT-DESC;FMTTYPE=text/html:This in-person 40-hour training is designed to give participants the skills needed to safely operate\, program\, and troubleshoot FANUC industrial robots used in manufacturing. After completing the course\, trainees will be able to safely jog and operate a robot\, create and modify material handling programs\, recover from common faults\, and manage robot files and I/O signals. Participants will use FANUC robot controllers (R-J3iB through R-30iB) with HandlingTool application software and teach pendants. The class combines classroom instruction with hands-on lab exercises on industrial robot work cells. All exercises include recommended safety procedures. A pre-assessment and post- ssessment exam are administered to measure knowledge gained.
LOCATION:COS Training Resource Center 1233 N. Century St. Visalia\, CA 93291
UID:e.1273.21266
SEQUENCE:3
DTSTAMP:20260424T204306Z
URL:https://business.visaliachamber.org/events/details/fanuc-industrial-robotics-handlingtool-programming-operation-21266
END:VEVENT

END:VCALENDAR
