BEGIN:VCALENDAR
VERSION:2.0
PRODID:-//ChamberMaster//Event Calendar 2.0//EN
METHOD:PUBLISH
X-PUBLISHED-TTL:P3D
REFRESH-INTERVAL:P3D
CALSCALE:GREGORIAN
BEGIN:VEVENT
DTSTART:20130719T010000Z
DTEND:20130721T033000Z
X-MICROSOFT-CDO-ALLDAYEVENT:FALSE
SUMMARY:FLMBC Visalia's VBS 2013 Hay Day
DESCRIPTION:First Landmark Missionary Baptist Church Visalia's VBS 2013\, Hay Day! Kids will be up to their elbows in farmin' fun as they explore one simple Bible truth: Jesus will always love us. July 18th-July20th 6pm-830pm.Pre-K thru 6th! www.flmbcvisalia.org to register FREE 559-732-2946
X-ALT-DESC;FMTTYPE=text/html:First Landmark Missionary Baptist Church Visalia&#39\;s VBS 2013\, Hay Day! Kids will be up to their elbows in farmin&rsquo\; fun as they explore one simple Bible truth: Jesus will always love us. July 18th-July20th 6pm-830pm.Pre-K thru 6th! <a href="http://www.flmbcvisalia.org">www.flmbcvisalia.org</a> to register FREE 559-732-2946
LOCATION:First Landmark Missionary Baptist Church 631 N Chinowth Street Visalia\, CA 93291
UID:e.1273.993
SEQUENCE:3
DTSTAMP:20260420T084241Z
URL:https://business.visaliachamber.org/events/details/flmbc-visalia-s-vbs-2013-hay-day-07-18-2013-993
END:VEVENT

END:VCALENDAR
