BEGIN:VCALENDAR
VERSION:2.0
PRODID:-//ChamberMaster//Event Calendar 2.0//EN
METHOD:PUBLISH
X-PUBLISHED-TTL:P3D
REFRESH-INTERVAL:P3D
CALSCALE:GREGORIAN
BEGIN:VEVENT
DTSTART:20260510T000000Z
DTEND:20260510T040000Z
X-MICROSOFT-CDO-ALLDAYEVENT:FALSE
SUMMARY:FoodLink: FLAVOR OF THE VALLEY: BEATS & BITES
DESCRIPTION:FOODLINK  is looking for vendors for their FLAVORS OF THE VALLEY: FOODLINK BEATS &  BITES FESTIVAL
X-ALT-DESC;FMTTYPE=text/html:FOODLINK&nbsp\; is looking for vendors for their FLAVORS OF THE VALLEY: FOODLINK BEATS &amp\;&nbsp\; BITES FESTIVAL
LOCATION:FoodLink Tulare County 611 2nd St Exeter\, CA
UID:e.1273.21280
SEQUENCE:3
DTSTAMP:20260424T190018Z
URL:https://business.visaliachamber.org/events/details/foodlink-beats-bites-21280
END:VEVENT

END:VCALENDAR
