BEGIN:VCALENDAR
VERSION:2.0
PRODID:-//ChamberMaster//Event Calendar 2.0//EN
METHOD:PUBLISH
X-PUBLISHED-TTL:P3D
REFRESH-INTERVAL:P3D
CALSCALE:GREGORIAN
BEGIN:VEVENT
DTSTART:20130619T160000Z
DTEND:20130717T190000Z
X-MICROSOFT-CDO-ALLDAYEVENT:FALSE
SUMMARY:Free Day Camp
DESCRIPTION:
X-ALT-DESC;FMTTYPE=text/html:
LOCATION:GateWay Church
UID:e.1273.990
SEQUENCE:3
DTSTAMP:20260420T083826Z
URL:https://business.visaliachamber.org/events/details/free-day-camp-06-19-2013-990
END:VEVENT

END:VCALENDAR
