BEGIN:VCALENDAR
VERSION:2.0
PRODID:-//ChamberMaster//Event Calendar 2.0//EN
METHOD:PUBLISH
X-PUBLISHED-TTL:P3D
REFRESH-INTERVAL:P3D
CALSCALE:GREGORIAN
BEGIN:VEVENT
DTSTART:20260530T010000Z
DTEND:20260530T030000Z
X-MICROSOFT-CDO-ALLDAYEVENT:FALSE
SUMMARY:Happy Trails Riding Academy: 2026 Night at the Races
DESCRIPTION:SAVE THE DATE!\n\nHappy Trails is gearing up for our Annual Spring Event   "Night at the Races" to be held at the Visalia Convention Center on Friday\, May 29th\, 2026 IN PERSON!
X-ALT-DESC;FMTTYPE=text/html:<span style="color: rgb(36\, 36\, 36)\; font-family: Calibri\, sans-serif\; font-size: 14.6667px\;"><strong>SAVE THE DATE!</strong><br />\nHappy Trails is gearing up for our</span><b style="color: rgb(36\, 36\, 36)\; font-family: Calibri\, sans-serif\; font-size: 14.6667px\;">&nbsp\;Annual Spring Event &ndash\; &ldquo\;Night at the Races&rdquo\;&nbsp\;</b><span style="color: rgb(36\, 36\, 36)\; font-family: Calibri\, sans-serif\; font-size: 14.6667px\;">to be held at the Visalia Convention Center on Friday\, May 29th\, 2026&nbsp\;</span><b style="color: rgb(36\, 36\, 36)\; font-family: Calibri\, sans-serif\; font-size: 14.6667px\;">IN PERSON</b><span style="color: rgb(36\, 36\, 36)\; font-family: Calibri\, sans-serif\; font-size: 14.6667px\;">!&nbsp\;</span>
LOCATION:Visalia Convention Center
UID:e.1273.21277
SEQUENCE:3
DTSTAMP:20260424T191642Z
URL:https://business.visaliachamber.org/events/details/happy-trails-riding-academy-2026-night-at-the-races-21277
END:VEVENT

END:VCALENDAR
