BEGIN:VCALENDAR
VERSION:2.0
PRODID:-//ChamberMaster//Event Calendar 2.0//EN
METHOD:PUBLISH
X-PUBLISHED-TTL:P3D
REFRESH-INTERVAL:P3D
CALSCALE:GREGORIAN
BEGIN:VEVENT
DTSTART:20131026T160000Z
DTEND:20131026T210000Z
X-MICROSOFT-CDO-ALLDAYEVENT:FALSE
SUMMARY:Job Fair - Part Time Pays
DESCRIPTION:Part Time Pays Job Fair\n\nThis one of a kind job fair will feature temp agencies\, local employers\, and home based businesses. Hosted by Chapman University and Central Valley Women's Network
X-ALT-DESC;FMTTYPE=text/html:Part Time Pays Job Fair<br />\nThis one of a kind job fair will feature temp agencies\, local employers\, and home based businesses. Hosted by Chapman University and Central Valley Women&#39\;s Network
LOCATION:649 S. County Center Drive off 198 next to Kmart.
UID:e.1273.1307
SEQUENCE:3
DTSTAMP:20260420T084358Z
URL:https://business.visaliachamber.org/events/details/job-fair-part-time-pays-10-26-2013-1307
END:VEVENT

END:VCALENDAR
