BEGIN:VCALENDAR
VERSION:2.0
PRODID:-//ChamberMaster//Event Calendar 2.0//EN
METHOD:PUBLISH
X-PUBLISHED-TTL:P3D
REFRESH-INTERVAL:P3D
CALSCALE:GREGORIAN
BEGIN:VEVENT
DTSTART:20260608T150000Z
DTEND:20260701T190000Z
X-MICROSOFT-CDO-ALLDAYEVENT:FALSE
SUMMARY:Motor Controls (SACA C-202)
DESCRIPTION:Take your electrical skills to the next level with Electric Motor Control Systems 1 (SACA C-202)   a hands-on training program designed to develop the knowledge and practical competencies required to install\, operate\, and troubleshoot industrial motor control systems. This is a foundational\, hands-on training designed to develop essential industrial electrical skills and prepare you for the Smart Automation Certification Alliance (SACA) credential. SACA's credentials are industry-driven and recognized for validating real-world competency in key electrical and smart automation technologies used in today's advanced manufacturing workplaces. C-202 validates real-world skills in motor control technologies widely used in advanced manufacturing and industrial environments. This credential builds directly on foundational electrical knowledge and prepares learners for more advanced automation and control systems training.
X-ALT-DESC;FMTTYPE=text/html:Take your electrical skills to the next level with Electric Motor Control Systems 1 (SACA C-202) &mdash\; a hands-on training program designed to develop the knowledge and practical competencies required to install\, operate\, and troubleshoot industrial motor control systems. This is a foundational\, hands-on training designed to develop essential industrial electrical skills and prepare you for the Smart Automation Certification Alliance (SACA) credential. SACA&rsquo\;s credentials are industry-driven and recognized for validating real-world competency in key electrical and smart automation technologies used in today&rsquo\;s advanced manufacturing workplaces. C-202 validates real-world skills in motor control technologies widely used in advanced manufacturing and industrial environments. This credential builds directly on foundational electrical knowledge and prepares learners for more advanced automation and control systems training.
LOCATION:COS Training Resource Center 1233 N. Century St. Visalia\, CA 93291
UID:e.1273.21268
SEQUENCE:3
DTSTAMP:20260424T204306Z
URL:https://business.visaliachamber.org/events/details/motor-controls-saca-c-202-21268
END:VEVENT

END:VCALENDAR
