BEGIN:VCALENDAR
VERSION:2.0
PRODID:-//ChamberMaster//Event Calendar 2.0//EN
METHOD:PUBLISH
X-PUBLISHED-TTL:P3D
REFRESH-INTERVAL:P3D
CALSCALE:GREGORIAN
BEGIN:VEVENT
DTSTART:20260505T150000Z
DTEND:20260528T190000Z
X-MICROSOFT-CDO-ALLDAYEVENT:FALSE
SUMMARY:PLC Basics
DESCRIPTION:This in-person 32 hours PLC training is designed to give participants a basic understanding of programmable logic controllers and their functions. After completing the course\, trainees will be able to competently get online with a PLC\, understand some of the common logic used in PLC programming\, make minor online programming edits\, and troubleshoot using a ladder logic program. The participants will use Allen-Bradley CompactLogix Controller and Rockwell Automation Studio 5000 Professional Software. The class will be mostly hands-on lab activities with some lecture/demonstration. This will be a PLC basics course\, and will be more focused on using the software as a troubleshooting tool rather than going deep into the PLC programming language itself.
X-ALT-DESC;FMTTYPE=text/html:This in-person 32 hours PLC training is designed to give participants a basic understanding of programmable logic controllers and their functions. After completing the course\, trainees will be able to competently get online with a PLC\, understand some of the common logic used in PLC programming\, make minor online programming edits\, and troubleshoot using a ladder logic program. The participants will use Allen-Bradley CompactLogix Controller and Rockwell Automation Studio 5000 Professional Software. The class will be mostly hands-on lab activities with some lecture/demonstration. This will be a PLC basics course\, and will be more focused on using the software as a troubleshooting tool rather than going deep into the PLC programming language itself.
LOCATION:COS Training Resource Center 1233 N. Century St. Visalia\, CA 93291
UID:e.1273.21269
SEQUENCE:3
DTSTAMP:20260424T185954Z
URL:https://business.visaliachamber.org/events/details/plc-basics-21269
END:VEVENT

END:VCALENDAR
