BEGIN:VCALENDAR
VERSION:2.0
PRODID:-//ChamberMaster//Event Calendar 2.0//EN
METHOD:PUBLISH
X-PUBLISHED-TTL:P3D
REFRESH-INTERVAL:P3D
CALSCALE:GREGORIAN
BEGIN:VEVENT
DTSTART:20260205T220000Z
DTEND:20260205T230000Z
X-MICROSOFT-CDO-ALLDAYEVENT:FALSE
SUMMARY:Ribbon Cutting - Paz Dermatology
DESCRIPTION:Join Paz Dermatology for a Ribbon Cutting and Grand Opening!\n\n	Appetizers\n	Drinks\n	Raffles
X-ALT-DESC;FMTTYPE=text/html:Join Paz Dermatology for a Ribbon Cutting and Grand Opening!\n<ul>\n	<li>Appetizers</li>\n	<li>Drinks</li>\n	<li>Raffles</li>\n</ul>\n
LOCATION:Paz Dermatology 5117 W Noble Ave Visalia\, Ca
UID:e.1273.20739
SEQUENCE:3
DTSTAMP:20260426T024257Z
URL:https://business.visaliachamber.org/events/details/ribbon-cutting-arts-visalia-20739
END:VEVENT

END:VCALENDAR
