BEGIN:VCALENDAR
VERSION:2.0
PRODID:-//ChamberMaster//Event Calendar 2.0//EN
METHOD:PUBLISH
X-PUBLISHED-TTL:P3D
REFRESH-INTERVAL:P3D
CALSCALE:GREGORIAN
BEGIN:VEVENT
DTSTART:20200306T000000Z
DTEND:20200306T010000Z
X-MICROSOFT-CDO-ALLDAYEVENT:FALSE
SUMMARY:Ribbon Cutting - Kuubix Energy Inc.
DESCRIPTION:Please join us for a Ribbon Cutting in celebration of our new member Kuubix Energy Inc.
X-ALT-DESC;FMTTYPE=text/html:Please join us for a Ribbon Cutting in celebration of our new member Kuubix Energy Inc.
LOCATION:Kuubix Energy Inc 7401 W Sunnyview Ave Visalia CA 93291
UID:e.1273.10190
SEQUENCE:3
DTSTAMP:20260420T084356Z
URL:https://business.visaliachamber.org/events/details/ribbon-cutting-kuubix-energy-inc-10190
END:VEVENT

END:VCALENDAR
