BEGIN:VCALENDAR
VERSION:2.0
PRODID:-//ChamberMaster//Event Calendar 2.0//EN
METHOD:PUBLISH
X-PUBLISHED-TTL:P3D
REFRESH-INTERVAL:P3D
CALSCALE:GREGORIAN
BEGIN:VEVENT
DTSTART:20201023T170000Z
DTEND:20201023T180000Z
X-MICROSOFT-CDO-ALLDAYEVENT:FALSE
SUMMARY:SBA Updates: Businesses Affected by Wildfires
DESCRIPTION:Please join the SBA Fresno District Office and SBA Office of Disaster Assistance on Friday - October 23\, 2020 at 10:00am (PST) to federal\, low-interest loans for small businesses affected by the wildfires.\n\nAre you a small business owner who was affected by a wildfire? Join us on our SBA Live: Wildfire disaster webinar as we discuss the wildfire declaration and the types of assistance that is available. You will also have an opportunity to ask your questions during the live Q&A session.\n\nIf you joined previous SBA Webinars\, we will be covering the latest information\, providing updates\, and holding a Q&A session for attendees.   Registration is not required.  Click on the Participation link below on Friday - October 23\, 2020 at 10:00am (PST) to join the conference.\n\n\n\nParticipate Here: https://teams.microsoft.com/dl/launcher/launcher.html?url=%2F_%23%2Fl%2Fmeetup-join%2F19%3Ameeting_MWM3MGVjODQtMmRmMy00MzUwLWE1ZGItMzQ4N2Y1YmU5MjM0%40thread.v2%2F0%3Fcontext%3D%257B%2522Tid%2522%253A%25223c89fd8a-7f68-4667-aa15-41ebf2208961%2522%252C%2522Oid%2522%253A%25224521726f-7a66-4502-96de-ef3ab88d600e%2522%252C%2522IsBroadcastMeeting%2522%253Atrue%257D%26utm_medium%3Demail%26utm_source%3Dgovdelivery%26anon%3Dtrue&type=meetup-join&deeplinkId=3ea1b32c-0e5a-4dd7-9935-3420c1d749c1&directDl=true&msLaunch=true&enableMobilePage=true&suppressPrompt=true
X-ALT-DESC;FMTTYPE=text/html:<p align="left" style="font-family: sans-serif\; font-size: 15px\; line-height: 1.4\; color: rgb(0\, 0\, 0)\; margin: 0px 0px 10px\;">Please join the SBA Fresno District Office and SBA Office of Disaster Assistance on&nbsp\;<strong>Friday<strong><u>&nbsp\;- October 23\, 2020 at 10:00am (PST)</u></strong></strong><u>&nbsp\;</u>to&nbsp\;<strong>federal\, low-interest loans for small businesses affected by the wildfires.</strong></p>\n\n<p align="left" style="font-family: sans-serif\; font-size: 15px\; line-height: 1.4\; color: rgb(0\, 0\, 0)\; margin: 0px 0px 10px\;">Are you a small business owner who was affected by a wildfire? Join us on our SBA Live: Wildfire disaster webinar&nbsp\;as we discuss the wildfire declaration and the types of assistance that is available. You will also have an opportunity to ask your questions during the live Q&amp\;A session.</p>\n\n<p align="left" style="font-family: sans-serif\; font-size: 15px\; line-height: 1.4\; color: rgb(0\, 0\, 0)\; margin: 0px 0px 10px\;">If you joined previous SBA Webinars\, we will be covering the latest information\, providing updates\, and holding a Q&amp\;A session for attendees.&nbsp\;&nbsp\; Registration is not required.&nbsp\; Click on the Participation link below on&nbsp\;<strong>Friday<strong><u>&nbsp\;- October 23\, 2020 at 10:00am (PST)</u></strong></strong>&nbsp\;to join the conference.<br />\n<br />\n<strong>Participate Here:&nbsp\;</strong>https://teams.microsoft.com/dl/launcher/launcher.html?url=%2F_%23%2Fl%2Fmeetup-join%2F19%3Ameeting_MWM3MGVjODQtMmRmMy00MzUwLWE1ZGItMzQ4N2Y1YmU5MjM0%40thread.v2%2F0%3Fcontext%3D%257B%2522Tid%2522%253A%25223c89fd8a-7f68-4667-aa15-41ebf2208961%2522%252C%2522Oid%2522%253A%25224521726f-7a66-4502-96de-ef3ab88d600e%2522%252C%2522IsBroadcastMeeting%2522%253Atrue%257D%26utm_medium%3Demail%26utm_source%3Dgovdelivery%26anon%3Dtrue&amp\;type=meetup-join&amp\;deeplinkId=3ea1b32c-0e5a-4dd7-9935-3420c1d749c1&amp\;directDl=true&amp\;msLaunch=true&amp\;enableMobilePage=true&amp\;suppressPrompt=true</p>\n
LOCATION:
UID:e.1273.12730
SEQUENCE:3
DTSTAMP:20260422T232635Z
URL:https://business.visaliachamber.org/events/details/sba-updates-businesses-affected-by-wildfires-12730
END:VEVENT

END:VCALENDAR
