BEGIN:VCALENDAR
VERSION:2.0
PRODID:-//ChamberMaster//Event Calendar 2.0//EN
METHOD:PUBLISH
X-PUBLISHED-TTL:P3D
REFRESH-INTERVAL:P3D
CALSCALE:GREGORIAN
BEGIN:VEVENT
DTSTART:20201001T210000Z
DTEND:20201001T220000Z
X-MICROSOFT-CDO-ALLDAYEVENT:FALSE
SUMMARY:SBA Webinar: Manufacturing Day-Discover Federal Govt. Resources to Grow Your Export Sales
DESCRIPTION:Celebrate Manufacturing Day 2020\n\nJoin us in celebrating Manufacturing Day for a virtual roundtable with accomplished small business manufacturers. Hear their secrets to success to help grow your company's international sales.\n\nExporting is good for your bottom line. Consumers worldwide are seeking "Made in the USA" products and services. Over the past 28 years\, U.S.-manufactured goods exports have quadrupled.\n\nLearn how your company can also make new export sales and boost its bottom line!\n\nThis no cost webinar will feature U.S. manufacturers explaining their successful experiences working with multiple government agencies to boost their international sales.\n\nRepresentatives from the various government agencies (shown below) will also highlight key programs and opportunities for U.S. manufacturers. Participants will be provided an email address to send questions that will be addressed at the end of the webinar.\n\n\n\nRegister Here: https://share.hsforms.com/1EfSIWRhlTEWj-nAKjURW_w3h0tg?utm_medium=email&utm_source=govdelivery
X-ALT-DESC;FMTTYPE=text/html:<h2 align="center" style="font-family: sans-serif\; text-align: center\; line-height: 1.1\; font-weight: bold\; color: rgb(0\, 46\, 109)\; font-size: 20px\; margin: 0px 0px 5px\;"><strong>Celebrate Manufacturing Day 2020</strong></h2>\n\n<p align="left" style="font-family: sans-serif\; font-size: 15px\; line-height: 1.4\; color: rgb(0\, 0\, 0)\; margin: 0px 0px 15px\;">Join us in&nbsp\;<strong><a data-auth="NotApplicable" href="https://lnks.gd/l/eyJhbGciOiJIUzI1NiJ9.eyJidWxsZXRpbl9saW5rX2lkIjoxMDAsInVyaSI6ImJwMjpjbGljayIsImJ1bGxldGluX2lkIjoiMjAyMDA5MjMuMjc1ODkxMzEiLCJ1cmwiOiJodHRwczovL3NoYXJlLmhzZm9ybXMuY29tLzFFZlNJV1JobFRFV2otbkFLalVSV193M2gwdGc_dXRtX21lZGl1bT1lbWFpbCZ1dG1fc291cmNlPWdvdmRlbGl2ZXJ5In0.nHkBlwxb2KINTY7-0hgVCQPPMWKmkuRhA3bKqrzC-tw/s/1182019644/br/85813021643-l" rel="noopener noreferrer" style="margin: 0px\; padding: 0px\; border: 0px\; font: inherit\; vertical-align: baseline\; color: rgb(11\, 151\, 221)\; word-break: break-word\;" target="_blank">celebrating Manufacturing Day</a></strong>&nbsp\;for a virtual roundtable with accomplished small business manufacturers. Hear their secrets to success to help grow your company&rsquo\;s international sales.</p>\n\n<p align="left" style="font-family: sans-serif\; font-size: 15px\; line-height: 1.4\; color: rgb(0\, 0\, 0)\; margin: 0px 0px 15px\;">Exporting is good for your bottom line.&nbsp\;Consumers worldwide are seeking &ldquo\;Made in the USA&rdquo\; products and services. Over the past 28 years\, U.S.-manufactured goods exports have quadrupled.</p>\n\n<p align="left" style="font-family: sans-serif\; font-size: 15px\; line-height: 1.4\; color: rgb(0\, 0\, 0)\; margin: 0px 0px 15px\;"><strong><a data-auth="NotApplicable" href="https://lnks.gd/l/eyJhbGciOiJIUzI1NiJ9.eyJidWxsZXRpbl9saW5rX2lkIjoxMDEsInVyaSI6ImJwMjpjbGljayIsImJ1bGxldGluX2lkIjoiMjAyMDA5MjMuMjc1ODkxMzEiLCJ1cmwiOiJodHRwczovL3NoYXJlLmhzZm9ybXMuY29tLzFFZlNJV1JobFRFV2otbkFLalVSV193M2gwdGc_dXRtX21lZGl1bT1lbWFpbCZ1dG1fc291cmNlPWdvdmRlbGl2ZXJ5In0.z0uemlEjqVjvRifRz7CQ72rW1z5XbIe11Sf0GrK9p_c/s/1182019644/br/85813021643-l" rel="noopener noreferrer" style="margin: 0px\; padding: 0px\; border: 0px\; font: inherit\; vertical-align: baseline\; color: rgb(11\, 151\, 221)\; word-break: break-word\;" target="_blank">Learn how your company can also make new export sales and boost its bottom line!</a></strong></p>\n\n<p align="left" style="font-family: sans-serif\; font-size: 15px\; line-height: 1.4\; color: rgb(0\, 0\, 0)\; margin: 0px 0px 15px\;">This no cost webinar will feature U.S. manufacturers explaining their successful experiences working with multiple government agencies to boost their international sales.</p>\n\n<p align="left" style="font-family: sans-serif\; font-size: 15px\; line-height: 1.4\; color: rgb(0\, 0\, 0)\; margin: 0px 0px 15px\;">Representatives from the various government agencies (shown below) will also highlight key programs and opportunities for U.S. manufacturers. Participants will be provided an email address to send questions that will be addressed at the end of the webinar.<br />\n<br />\n<strong>Register Here:&nbsp\;</strong>https://share.hsforms.com/1EfSIWRhlTEWj-nAKjURW_w3h0tg?utm_medium=email&amp\;utm_source=govdelivery</p>\n
LOCATION:
UID:e.1273.12674
SEQUENCE:3
DTSTAMP:20260422T233014Z
URL:https://business.visaliachamber.org/events/details/sba-webinar-manufacturing-day-discover-federal-govt-resources-to-grow-your-export-sales-12674
END:VEVENT

END:VCALENDAR
