BEGIN:VCALENDAR
VERSION:2.0
PRODID:-//ChamberMaster//Event Calendar 2.0//EN
METHOD:PUBLISH
X-PUBLISHED-TTL:P3D
REFRESH-INTERVAL:P3D
CALSCALE:GREGORIAN
BEGIN:VEVENT
DTSTART:20240821T183000Z
DTEND:20240821T203000Z
X-MICROSOFT-CDO-ALLDAYEVENT:FALSE
SUMMARY:State of Local Government
DESCRIPTION:Join us on Wednesday\, August 21 for The State of Local Government Luncheon\, where the County of Tulare and City of Visalia unite their voices.\n\nExperience an engaging conversation hosted by the Visalia Chamber of Commerce\, featuring Supervisor Larry Micari of District 1\, Supervisor Amy Shuklian of District 3\, Mayor Brian Poochigian of District 3\, and Vice Mayor Brett Taylor of District 2. Together\, they will delve into pressing business matters that impact Tulare County and the City of Visalia\, highlighting notable achievements and sharing their visionary outlook for the future. This event provides an excellent opportunity to stay informed about the most current issues that shape our County and City\, forge connections with influential leaders\, and celebrate our remarkable community.\n\nGuiding this insightful discussion will be Reggie Ellis\, Editor/Publisher of The Sun-Gazette\, who will serve as moderator.\n\nThe State of Local Government serves as a forum to highlight the city and county's accomplishments and outline a foundation for the future. This event is a wonderful way to stay current on the latest issues affecting Visalia and Tulare County\, connect with leaders\, and celebrate our community. \n\n\nFor sponsorship opportunities\, please contact Charlie Saponara at (559) 7345876.\n\n\n\nhttps://www.eventbrite.com/e/state-of-local-government-luncheon-tickets-928019891477?aff=oddtdtcreator\n\n\n\nHave a question for our City and County Officials?\n\nSubmit a question here: visaliachamber.org/state-of-local-govt\n\n\n\nThank you to our Sponsors\n\n-Southern California Edison
X-ALT-DESC;FMTTYPE=text/html:<p style="font-family: Oswald\; font-size: 16px\; letter-spacing: 0.32px\; line-height: 1.6em\; margin: 24px 0px\; overflow-wrap: break-word\; color: rgb(23\, 23\, 23)\; white-space-collapse: preserve\;">Join us on Wednesday\, August 21 for The State of Local Government Luncheon\, where the County of Tulare and City of Visalia unite their voices.</p>\n\n<p style="font-family: Oswald\; font-size: 16px\; letter-spacing: 0.32px\; line-height: 1.6em\; margin: 24px 0px\; overflow-wrap: break-word\; color: rgb(23\, 23\, 23)\; white-space-collapse: preserve\;">Experience an engaging conversation hosted by the Visalia Chamber of Commerce\, featuring Supervisor Larry Micari of District 1\, Supervisor Amy Shuklian of District 3\, Mayor Brian Poochigian of District 3\, and Vice Mayor Brett Taylor of District 2. Together\, they will delve into pressing business matters that impact Tulare County and the City of Visalia\, highlighting notable achievements and sharing their visionary outlook for the future. This event provides an excellent opportunity to stay informed about the most current issues that shape our County and City\, forge connections with influential leaders\, and celebrate our remarkable community.</p>\n\n<p style="font-family: Oswald\; font-size: 16px\; letter-spacing: 0.32px\; line-height: 1.6em\; margin: 24px 0px\; overflow-wrap: break-word\; color: rgb(23\, 23\, 23)\; white-space-collapse: preserve\;">Guiding this insightful discussion will be Reggie Ellis\, Editor/Publisher of The Sun-Gazette\, who will serve as moderator.</p>\n\n<p style="font-family: Oswald\; font-size: 16px\; letter-spacing: 0.32px\; line-height: 1.6em\; margin: 24px 0px 0px\; overflow-wrap: break-word\; color: rgb(23\, 23\, 23)\; white-space-collapse: preserve\;">The State of Local Government serves as a forum to highlight the city and county&rsquo\;s accomplishments and outline a foundation for the future. This event is a wonderful way to stay current on the latest issues affecting Visalia and Tulare County\, connect with leaders\, and celebrate our community.&nbsp\;</p>\n<br />\n<strong><em>For sponsorship opportunities\, please contact Charlie Saponara at (559) 7345876.</em></strong><br />\n<br />\n<a href="https://www.eventbrite.com/e/state-of-local-government-luncheon-tickets-928019891477?aff=oddtdtcreator">https://www.eventbrite.com/e/state-of-local-government-luncheon-tickets-928019891477?aff=oddtdtcreator</a><br />\n<br />\n<em>Have a question for our City and County Officials?<br />\nSubmit a question here:&nbsp\;</em><a href="https://www.visaliachamber.org/state-of-local-govt">visaliachamber.org/state-of-local-govt</a><br />\n<br />\nThank you to our Sponsors<br />\n-Southern California Edison
LOCATION:The Hyde (former Lamp Liter Conference Center) 3200 W Mineral King Ave
UID:e.1273.17003
SEQUENCE:3
DTSTAMP:20260424T101716Z
URL:https://business.visaliachamber.org/events/details/state-of-local-government-08-21-2024-17003
END:VEVENT

END:VCALENDAR
