BEGIN:VCALENDAR
VERSION:2.0
PRODID:-//ChamberMaster//Event Calendar 2.0//EN
METHOD:PUBLISH
X-PUBLISHED-TTL:P3D
REFRESH-INTERVAL:P3D
CALSCALE:GREGORIAN
BEGIN:VEVENT
DTSTART:20270409T003000Z
DTEND:20270409T020000Z
X-MICROSOFT-CDO-ALLDAYEVENT:FALSE
SUMMARY:YPN Monthly Meet-Up
DESCRIPTION:The Visalia YPN host a monthly Meet-Up at local breweries. This is an opportunity for Young Professionals to meet up in an informal setting to networking and make connections in the community with other Young Professionals. \n\n\n\nVisit our Facebook page to stay up to date on events!https://www.facebook.com/VisaliaYPN/?ref=page_internal
X-ALT-DESC;FMTTYPE=text/html:The Visalia YPN host a monthly Meet-Up at local breweries. This is an opportunity for Young Professionals to meet up in an informal setting to networking and make connections in the community with other Young Professionals.&nbsp\;<br />\n<br />\nVisit our Facebook page to stay up to date on events!<a href="https://www.facebook.com/VisaliaYPN/?ref=page_internal">https://www.facebook.com/VisaliaYPN/?ref=page_internal</a>
LOCATION:
UID:e.1273.13264
SEQUENCE:3
DTSTAMP:20260423T102104Z
URL:https://business.visaliachamber.org/events/details/ypn-monthly-meet-up-04-08-2027-13264
END:VEVENT

END:VCALENDAR
